BEGIN:VCALENDAR
VERSION:2.0
PRODID:-//gutach.ortenaukultur.de//NONSGML kigkonsult.se iCalcreator 2.41.92//
CALSCALE:GREGORIAN
METHOD:PUBLISH
UID:61373931-6466-4461-a337-373932323438
X-WR-TIMEZONE:Europe/Berlin
X-LIC-LOCATION:Europe/Berlin
BEGIN:VEVENT
UID:587246-kulturportal@gutach.ortenaukultur.de
DTSTAMP:20260424T212114Z
DESCRIPTION:Kurzbeschreibung:\n Akkordeon-Orchester Gutach e.V.\n Ort:\n Ev
 angelische Peterskirche\n Kirchstraße\, 77793 Gutach (Schwarzwaldbahn)\n V
 eranstalter:\n Akkordeonorchester Gutach e.V.\n Termin:\n Beginn: 19.12.20
 26\n Ende: 19.12.2026\n Link:\n Zur Detailseite
DTSTART;TZID=Europe/Berlin:20261219T000000
DTEND;TZID=Europe/Berlin:20261219T030000
LOCATION:Evangelische Peterskirche\, Kirchstraße\, 77793 Gutach (Schwarzwal
 dbahn)
SUMMARY:Weihnachtsmusical\, Evangelische Peterskirche
X-ALT-DESC;FMTTYPE=text/html:<strong>Kurzbeschreibung:</strong><br/>Akkorde
 on-Orchester Gutach e.V.<br /><strong>Ort:</strong><br/>Evangelische Peter
 skirche<br/>Kirchstraße\, 77793 Gutach (Schwarzwaldbahn)<br /><strong>Vera
 nstalter:</strong><br/>Akkordeonorchester Gutach e.V.<br /><strong>Termin:
 </strong><br/>Beginn: 19.12.2026<br/>Ende: 19.12.2026<br /><strong>Link:</
 strong><br/><a href='https://gutach.ortenaukultur.de/de/veranstaltungen/de
 tail/veranstaltung/id/587246-weihnachtsmusical/?vt=1'>Zur Detailseite</a>
END:VEVENT
END:VCALENDAR
