BEGIN:VCALENDAR
VERSION:2.0
PRODID:-//gutach.ortenaukultur.de//NONSGML kigkonsult.se iCalcreator 2.41.92//
CALSCALE:GREGORIAN
METHOD:PUBLISH
UID:32616630-6238-4536-b630-346263323635
X-WR-TIMEZONE:Europe/Berlin
X-LIC-LOCATION:Europe/Berlin
BEGIN:VEVENT
UID:587256-kulturportal@gutach.ortenaukultur.de
DTSTAMP:20260424T212938Z
DESCRIPTION:Kurzbeschreibung:\n Wanderung für Teamplayer und Rätselfreunde!
 \n Ort:\n Parkplatz Dorfmitte\n Hauptstraße 48\, 77793 Gutach (Schwarzwald
 bahn)\n Veranstalter:\n Schwarzwaldverein - Ortsgruppe Gutach e.V.\n Termi
 n:\n Beginn: 06.09.2026\, 10:00 Uhr\n Ende: 06.09.2026\n Link:\n Zur Detai
 lseite
DTSTART;TZID=Europe/Berlin:20260906T100000
DTEND;TZID=Europe/Berlin:20260906T130000
LOCATION:Parkplatz Dorfmitte\, Hauptstraße 48\, 77793 Gutach (Schwarzwaldba
 hn)
SUMMARY:Schnitzeljagd\, Parkplatz Dorfmitte
X-ALT-DESC;FMTTYPE=text/html:<strong>Kurzbeschreibung:</strong><br/>Wanderu
 ng für Teamplayer und Rätselfreunde!<br /><strong>Ort:</strong><br/>Parkpl
 atz Dorfmitte<br/>Hauptstraße 48\, 77793 Gutach (Schwarzwaldbahn)<br /><st
 rong>Veranstalter:</strong><br/>Schwarzwaldverein - Ortsgruppe Gutach e.V.
 <br /><strong>Termin:</strong><br/>Beginn: 06.09.2026\, 10:00 Uhr<br/>Ende
 : 06.09.2026<br /><strong>Link:</strong><br/><a href='https://gutach.orten
 aukultur.de/de/veranstaltungen/detail/veranstaltung/id/587256-schnitzeljag
 d/?vt=1'>Zur Detailseite</a>
END:VEVENT
END:VCALENDAR
