BEGIN:VCALENDAR
VERSION:2.0
PRODID:-//gutach.ortenaukultur.de//NONSGML kigkonsult.se iCalcreator 2.41.92//
CALSCALE:GREGORIAN
METHOD:PUBLISH
UID:38343034-3333-4536-a332-353033373834
X-WR-TIMEZONE:Europe/Berlin
X-LIC-LOCATION:Europe/Berlin
BEGIN:VEVENT
UID:587257-kulturportal@gutach.ortenaukultur.de
DTSTAMP:20260425T122357Z
DESCRIPTION:Kurzbeschreibung:\n Wanderung über Weißmoos nach Schuttertal. A
 bschlusseinkehr im 'Schutterblick' geplant.\n Ort:\n Parkplatz Dorfmitte\n
  Hauptstraße 48\, 77793 Gutach (Schwarzwaldbahn)\n Veranstalter:\n Schwarz
 waldverein - Ortsgruppe Gutach e.V.\n Termin:\n Beginn: 13.09.2026\, 10:00
  Uhr\n Ende: 13.09.2026\n Link:\n Zur Detailseite
DTSTART;TZID=Europe/Berlin:20260913T100000
DTEND;TZID=Europe/Berlin:20260913T130000
LOCATION:Parkplatz Dorfmitte\, Hauptstraße 48\, 77793 Gutach (Schwarzwaldba
 hn)
SUMMARY:Von Schweigenhausen nach Schuttertal\, Parkplatz Dorfmitte
X-ALT-DESC;FMTTYPE=text/html:<strong>Kurzbeschreibung:</strong><br/>Wanderu
 ng über Weißmoos nach Schuttertal. Abschlusseinkehr im 'Schutterblick' gep
 lant.<br /><strong>Ort:</strong><br/>Parkplatz Dorfmitte<br/>Hauptstraße 4
 8\, 77793 Gutach (Schwarzwaldbahn)<br /><strong>Veranstalter:</strong><br/
 >Schwarzwaldverein - Ortsgruppe Gutach e.V.<br /><strong>Termin:</strong><
 br/>Beginn: 13.09.2026\, 10:00 Uhr<br/>Ende: 13.09.2026<br /><strong>Link:
 </strong><br/><a href='https://gutach.ortenaukultur.de/de/veranstaltungen/
 detail/veranstaltung/id/587257-von-schweigenhausen-nach-schuttertal/?vt=1'
 >Zur Detailseite</a>
END:VEVENT
END:VCALENDAR
