BEGIN:VCALENDAR
VERSION:2.0
PRODID:-//gutach.ortenaukultur.de//NONSGML kigkonsult.se iCalcreator 2.41.92//
CALSCALE:GREGORIAN
METHOD:PUBLISH
UID:65613465-3830-4362-b662-306637396364
X-WR-TIMEZONE:Europe/Berlin
X-LIC-LOCATION:Europe/Berlin
BEGIN:VEVENT
UID:587259-kulturportal@gutach.ortenaukultur.de
DTSTAMP:20260425T123642Z
DESCRIPTION:Kurzbeschreibung:\n Abwechslungsreiche Rundwanderung um Horgen 
 im Eschachtal bei Rottweil durch Wälder\, weite Wiesen und sanfte Hügel.\n
  Ort:\n Parkplatz Dorfmitte\n Hauptstraße 48\, 77793 Gutach (Schwarzwaldba
 hn)\n Veranstalter:\n Schwarzwaldverein - Ortsgruppe Gutach e.V.\n Termin:
 \n Beginn: 09.08.2026\, 10:00 Uhr\n Ende: 09.08.2026\n Link:\n Zur Details
 eite
DTSTART;TZID=Europe/Berlin:20260809T100000
DTEND;TZID=Europe/Berlin:20260809T130000
LOCATION:Parkplatz Dorfmitte\, Hauptstraße 48\, 77793 Gutach (Schwarzwaldba
 hn)
SUMMARY:Paradiestour Eschachtal-Horgen\, Parkplatz Dorfmitte
X-ALT-DESC;FMTTYPE=text/html:<strong>Kurzbeschreibung:</strong><br/>Abwechs
 lungsreiche Rundwanderung um Horgen im Eschachtal bei Rottweil durch Wälde
 r\, weite Wiesen und sanfte Hügel.<br /><strong>Ort:</strong><br/>Parkplat
 z Dorfmitte<br/>Hauptstraße 48\, 77793 Gutach (Schwarzwaldbahn)<br /><stro
 ng>Veranstalter:</strong><br/>Schwarzwaldverein - Ortsgruppe Gutach e.V.<b
 r /><strong>Termin:</strong><br/>Beginn: 09.08.2026\, 10:00 Uhr<br/>Ende: 
 09.08.2026<br /><strong>Link:</strong><br/><a href='https://gutach.ortenau
 kultur.de/de/veranstaltungen/detail/veranstaltung/id/587259-paradiestour-e
 schachtal-horgen/?vt=1'>Zur Detailseite</a>
END:VEVENT
END:VCALENDAR
