BEGIN:VCALENDAR
VERSION:2.0
PRODID:-//gutach.ortenaukultur.de//NONSGML kigkonsult.se iCalcreator 2.41.92//
CALSCALE:GREGORIAN
METHOD:PUBLISH
UID:64356537-6433-4066-b764-316231376633
X-WR-TIMEZONE:Europe/Berlin
X-LIC-LOCATION:Europe/Berlin
BEGIN:VEVENT
UID:587262-kulturportal@gutach.ortenaukultur.de
DTSTAMP:20260425T122655Z
DESCRIPTION:Kurzbeschreibung:\n Über Hornberg Schlossweiher\, Fünfgeldpfad\
 , Martinseckle\, Offenbacher Eckle\, Ziegelkopf\, Schlossschanze zurück zu
 m Ausgangspunkt.\n Ort:\n Parkplatz Dorfmitte\n Hauptstraße 48\, 77793 Gut
 ach (Schwarzwaldbahn)\n Veranstalter:\n Schwarzwaldverein - Ortsgruppe Gut
 ach e.V.\n Termin:\n Beginn: 18.10.2026\, 13:00 Uhr\n Ende: 18.10.2026\n L
 ink:\n Zur Detailseite
DTSTART;TZID=Europe/Berlin:20261018T130000
DTEND;TZID=Europe/Berlin:20261018T160000
LOCATION:Parkplatz Dorfmitte\, Hauptstraße 48\, 77793 Gutach (Schwarzwaldba
 hn)
SUMMARY:Naturkundliche Wanderung zum Thema 'Wald'\, Parkplatz Dorfmitte
X-ALT-DESC;FMTTYPE=text/html:<strong>Kurzbeschreibung:</strong><br/>Über Ho
 rnberg Schlossweiher\, Fünfgeldpfad\, Martinseckle\, Offenbacher Eckle\, Z
 iegelkopf\, Schlossschanze zurück zum Ausgangspunkt.<br /><strong>Ort:</st
 rong><br/>Parkplatz Dorfmitte<br/>Hauptstraße 48\, 77793 Gutach (Schwarzwa
 ldbahn)<br /><strong>Veranstalter:</strong><br/>Schwarzwaldverein - Ortsgr
 uppe Gutach e.V.<br /><strong>Termin:</strong><br/>Beginn: 18.10.2026\, 13
 :00 Uhr<br/>Ende: 18.10.2026<br /><strong>Link:</strong><br/><a href='http
 s://gutach.ortenaukultur.de/de/veranstaltungen/detail/veranstaltung/id/587
 262-naturkundliche-wanderung-zum-thema-wald/?vt=1'>Zur Detailseite</a>
END:VEVENT
END:VCALENDAR
