BEGIN:VCALENDAR
VERSION:2.0
PRODID:-//gutach.ortenaukultur.de//NONSGML kigkonsult.se iCalcreator 2.41.92//
CALSCALE:GREGORIAN
METHOD:PUBLISH
UID:30656336-3561-4236-b466-343636646539
X-WR-TIMEZONE:Europe/Berlin
X-LIC-LOCATION:Europe/Berlin
BEGIN:VEVENT
UID:587267-kulturportal@gutach.ortenaukultur.de
DTSTAMP:20260425T135201Z
DESCRIPTION:Kurzbeschreibung:\n Turn- und Sportverein Gutach 1901 e.V.\n Or
 t:\n Festhalle\n Hauptstr. 40\, 77793 Gutach (Schwarzwaldbahn)\n Veranstal
 ter:\n Turn- und Sportverein Gutach 1901 e.V.\n Termin:\n Beginn: 14.11.20
 26\n Ende: 14.11.2026\n Link:\n Zur Detailseite
DTSTART;TZID=Europe/Berlin:20261114T000000
DTEND;TZID=Europe/Berlin:20261114T030000
LOCATION:Festhalle\, Hauptstr. 40\, 77793 Gutach (Schwarzwaldbahn)
SUMMARY:Skibasar\, Festhalle
X-ALT-DESC;FMTTYPE=text/html:<strong>Kurzbeschreibung:</strong><br/>Turn- u
 nd Sportverein Gutach 1901 e.V.<br /><strong>Ort:</strong><br/>Festhalle<b
 r/>Hauptstr. 40\, 77793 Gutach (Schwarzwaldbahn)<br /><strong>Veranstalter
 :</strong><br/>Turn- und Sportverein Gutach 1901 e.V.<br /><strong>Termin:
 </strong><br/>Beginn: 14.11.2026<br/>Ende: 14.11.2026<br /><strong>Link:</
 strong><br/><a href='https://gutach.ortenaukultur.de/de/veranstaltungen/de
 tail/veranstaltung/id/587267-skibasar/?vt=1'>Zur Detailseite</a>
END:VEVENT
END:VCALENDAR
