BEGIN:VCALENDAR
VERSION:2.0
PRODID:-//gutach.ortenaukultur.de//NONSGML kigkonsult.se iCalcreator 2.41.92//
CALSCALE:GREGORIAN
METHOD:PUBLISH
UID:35323266-3035-4837-b736-303538393937
X-WR-TIMEZONE:Europe/Berlin
X-LIC-LOCATION:Europe/Berlin
BEGIN:VEVENT
UID:587276-kulturportal@gutach.ortenaukultur.de
DTSTAMP:20260425T102948Z
DESCRIPTION:Kurzbeschreibung:\n Das Kunstmuseum Hasemann-Liebich in Gutach 
 eröffnet am Sonntag\, den 12. April um 11 Uhr\, eine neue Sonderausstellun
 g zur Künstlerfamilie Roman.\n Ort:\n Kunstmuseum Hasemann-Liebich\n Kirch
 straße 4\, 77793 Gutach (Schwarzwaldbahn)\n Veranstalter:\n Kunstverein Ha
 semann-Liebich Gutach\n Termin:\n Beginn: 07.06.2026\, 14:00 Uhr\n Ende: 0
 7.06.2026\n Link:\n Zur Detailseite
DTSTART;TZID=Europe/Berlin:20260607T140000
DTEND;TZID=Europe/Berlin:20260607T170000
LOCATION:Kunstmuseum Hasemann-Liebich\, Kirchstraße 4\, 77793 Gutach (Schwa
 rzwaldbahn)
SUMMARY:Ausstellung zur Künstlerfamilie Roman\, Kunstmuseum Hasemann-Liebic
 h
X-ALT-DESC;FMTTYPE=text/html:<strong>Kurzbeschreibung:</strong><br/>Das Kun
 stmuseum Hasemann-Liebich in Gutach eröffnet am Sonntag\, den 12. April um
  11 Uhr\, eine neue Sonderausstellung zur Künstlerfamilie Roman. <br /><st
 rong>Ort:</strong><br/>Kunstmuseum Hasemann-Liebich<br/>Kirchstraße 4\, 77
 793 Gutach (Schwarzwaldbahn)<br /><strong>Veranstalter:</strong><br/>Kunst
 verein Hasemann-Liebich Gutach<br /><strong>Termin:</strong><br/>Beginn: 0
 7.06.2026\, 14:00 Uhr<br/>Ende: 07.06.2026<br /><strong>Link:</strong><br/
 ><a href='https://gutach.ortenaukultur.de/de/veranstaltungen/detail/verans
 taltung/id/587276-ausstellung-zur-kuenstlerfamilie-roman/?vt=1'>Zur Detail
 seite</a>
END:VEVENT
END:VCALENDAR
