BEGIN:VCALENDAR
VERSION:2.0
PRODID:-//gutach.ortenaukultur.de//NONSGML kigkonsult.se iCalcreator 2.41.92//
CALSCALE:GREGORIAN
METHOD:PUBLISH
UID:64313766-3861-4338-a564-613663396235
X-WR-TIMEZONE:Europe/Berlin
X-LIC-LOCATION:Europe/Berlin
BEGIN:VEVENT
UID:588427-kulturportal@gutach.ortenaukultur.de
DTSTAMP:20260425T023801Z
DESCRIPTION:Kurzbeschreibung:\n SPD Ortsverein Gutach (Schwarzwaldbahn)\n O
 rt:\n Kurpark\n Siedlung 3 a\, 77793 Gutach (Schwarzwaldbahn)\n Veranstalt
 er:\n SPD Gutach\n Termin:\n Beginn: 19.07.2026\, 11:00 Uhr\n Ende: 19.07.
 2026\n Link:\n Zur Detailseite
DTSTART;TZID=Europe/Berlin:20260719T110000
DTEND;TZID=Europe/Berlin:20260719T140000
LOCATION:Kurpark\, Siedlung 3 a\, 77793 Gutach (Schwarzwaldbahn)
SUMMARY:Kurparkfest\, Kurpark
X-ALT-DESC;FMTTYPE=text/html:<strong>Kurzbeschreibung:</strong><br/>SPD Ort
 sverein Gutach (Schwarzwaldbahn)<br /><strong>Ort:</strong><br/>Kurpark<br
 />Siedlung 3 a\, 77793 Gutach (Schwarzwaldbahn)<br /><strong>Veranstalter:
 </strong><br/>SPD Gutach<br /><strong>Termin:</strong><br/>Beginn: 19.07.2
 026\, 11:00 Uhr<br/>Ende: 19.07.2026<br /><strong>Link:</strong><br/><a hr
 ef='https://gutach.ortenaukultur.de/de/veranstaltungen/detail/veranstaltun
 g/id/588427-kurparkfest/?vt=1'>Zur Detailseite</a>
END:VEVENT
END:VCALENDAR
