BEGIN:VCALENDAR
VERSION:2.0
PRODID:-//gutach.ortenaukultur.de//NONSGML kigkonsult.se iCalcreator 2.41.92//
CALSCALE:GREGORIAN
METHOD:PUBLISH
UID:33613231-3035-4535-b863-313037633039
X-WR-TIMEZONE:Europe/Berlin
X-LIC-LOCATION:Europe/Berlin
BEGIN:VEVENT
UID:592281-kulturportal@gutach.ortenaukultur.de
DTSTAMP:20260425T122508Z
DESCRIPTION:Kurzbeschreibung:\n Auf die Räder\, fertig\, los!\n Ort:\n Rath
 aus Gutach\n Hauptstraße 38\, 77793 Gutach (Schwarzwaldbahn)\n Veranstalte
 r:\n Tourist-Information Gutach\n Termin:\n Beginn: 09.05.2026\n Ende: 09.
 05.2026\n Link:\n Zur Detailseite
DTSTART;VALUE=DATE:20260509
DTEND;VALUE=DATE:20260510
LOCATION:Rathaus Gutach\, Hauptstraße 38\, 77793 Gutach (Schwarzwaldbahn)
SUMMARY:Stadtradeln\, Rathaus Gutach
X-ALT-DESC;FMTTYPE=text/html:<strong>Kurzbeschreibung:</strong><br/>Auf die
  Räder\, fertig\, los!<br /><strong>Ort:</strong><br/>Rathaus Gutach<br/>H
 auptstraße 38\, 77793 Gutach (Schwarzwaldbahn)<br /><strong>Veranstalter:<
 /strong><br/>Tourist-Information Gutach<br /><strong>Termin:</strong><br/>
 Beginn: 09.05.2026<br/>Ende: 09.05.2026<br /><strong>Link:</strong><br/><a
  href='https://gutach.ortenaukultur.de/de/veranstaltungen/detail/veranstal
 tung/id/592281-stadtradeln/?vt=1'>Zur Detailseite</a>
END:VEVENT
END:VCALENDAR
