BEGIN:VCALENDAR
VERSION:2.0
PRODID:-//gutach.ortenaukultur.de//NONSGML kigkonsult.se iCalcreator 2.41.92//
CALSCALE:GREGORIAN
METHOD:PUBLISH
UID:63343934-3337-4732-b264-666138353235
X-WR-TIMEZONE:Europe/Berlin
X-LIC-LOCATION:Europe/Berlin
BEGIN:VEVENT
UID:593873-kulturportal@gutach.ortenaukultur.de
DTSTAMP:20260424T214554Z
DESCRIPTION:Kurzbeschreibung:\n Am Sonntag\, dem 26. April 2026 findet ab 1
 4:00 Uhr ein offenes Volksliedersingen mit der Musikgruppe „Spätzünder“ in
  der Gutacher Festhalle statt.\n Ort:\n Festhalle\n Hauptstr. 40\, 77793 G
 utach (Schwarzwaldbahn)\n Veranstalter:\n Gemeindeverwaltung Gutach\n Term
 in:\n Beginn: 26.04.2026\, 14:00 Uhr\n Ende: 26.04.2026\n Link:\n Zur Deta
 ilseite
DTSTART;TZID=Europe/Berlin:20260426T140000
DTEND;TZID=Europe/Berlin:20260426T170000
LOCATION:Festhalle\, Hauptstr. 40\, 77793 Gutach (Schwarzwaldbahn)
SUMMARY:Offenes Volksliedersingen mit der Musikgruppe „Spätzünder“\, Festha
 lle
X-ALT-DESC;FMTTYPE=text/html:<strong>Kurzbeschreibung:</strong><br/>Am Sonn
 tag\, dem 26. April 2026 findet ab 14:00 Uhr ein offenes Volksliedersingen
  mit der Musikgruppe „Spätzünder“ in der Gutacher Festhalle statt.<br /><s
 trong>Ort:</strong><br/>Festhalle<br/>Hauptstr. 40\, 77793 Gutach (Schwarz
 waldbahn)<br /><strong>Veranstalter:</strong><br/>Gemeindeverwaltung Gutac
 h<br /><strong>Termin:</strong><br/>Beginn: 26.04.2026\, 14:00 Uhr<br/>End
 e: 26.04.2026<br /><strong>Link:</strong><br/><a href='https://gutach.orte
 naukultur.de/de/veranstaltungen/detail/veranstaltung/id/593873-offenes-vol
 ksliedersingen-mit-der-musikgruppe-spaetzuender/?vt=1'>Zur Detailseite</a>
END:VEVENT
END:VCALENDAR
