BEGIN:VCALENDAR
VERSION:2.0
PRODID:-//gutach.ortenaukultur.de//NONSGML kigkonsult.se iCalcreator 2.41.92//
CALSCALE:GREGORIAN
METHOD:PUBLISH
UID:37353763-6362-4339-b565-383633343433
X-WR-TIMEZONE:Europe/Berlin
X-LIC-LOCATION:Europe/Berlin
BEGIN:VEVENT
UID:593903-kulturportal@gutach.ortenaukultur.de
DTSTAMP:20260425T025530Z
DESCRIPTION:Kurzbeschreibung:\n Berichte und Erzählungen zu Frauenschicksal
 e aus dem Schwarzwald früherer Zeiten\n Ort:\n Schwarzwälder Freilichtmuse
 um Vogtsbauernhof\n Vogtsbauernhof\, 77793 Gutach (Schwarzwaldbahn)\n Vera
 nstalter:\n Schwarzwälder Freilichtmuseum Vogtsbauernhof\n Termin:\n Begin
 n: 21.06.2026\, 11:00 Uhr\n Ende: 21.06.2026\n Link:\n Zur Detailseite
DTSTART;TZID=Europe/Berlin:20260621T110000
DTEND;TZID=Europe/Berlin:20260621T140000
LOCATION:Schwarzwälder Freilichtmuseum Vogtsbauernhof\, Vogtsbauernhof\, 77
 793 Gutach (Schwarzwaldbahn)
SUMMARY:Begegnungen: Frauen auf dem Land\, Schwarzwälder Freilichtmuseum Vo
 gtsbauernhof
X-ALT-DESC;FMTTYPE=text/html:<strong>Kurzbeschreibung:</strong><br/>Bericht
 e und Erzählungen zu Frauenschicksale aus dem Schwarzwald früherer Zeiten<
 br /><strong>Ort:</strong><br/>Schwarzwälder Freilichtmuseum Vogtsbauernho
 f<br/>Vogtsbauernhof\, 77793 Gutach (Schwarzwaldbahn)<br /><strong>Veranst
 alter:</strong><br/>Schwarzwälder Freilichtmuseum Vogtsbauernhof<br /><str
 ong>Termin:</strong><br/>Beginn: 21.06.2026\, 11:00 Uhr<br/>Ende: 21.06.20
 26<br /><strong>Link:</strong><br/><a href='https://gutach.ortenaukultur.d
 e/de/veranstaltungen/detail/veranstaltung/id/593903-begegnungen-frauen-auf
 -dem-land/?vt=1'>Zur Detailseite</a>
END:VEVENT
END:VCALENDAR
