BEGIN:VCALENDAR
VERSION:2.0
PRODID:-//gutach.ortenaukultur.de//NONSGML kigkonsult.se iCalcreator 2.41.92//
CALSCALE:GREGORIAN
METHOD:PUBLISH
UID:30373130-6336-4537-b939-333965303134
X-WR-TIMEZONE:Europe/Berlin
X-LIC-LOCATION:Europe/Berlin
BEGIN:VEVENT
UID:593904-kulturportal@gutach.ortenaukultur.de
DTSTAMP:20260424T212210Z
DESCRIPTION:Kurzbeschreibung:\n Regionalen Autoren sind zu Gast in den Stub
 en des Freilichtmuseum Vogtsbauernhof\n Ort:\n Schwarzwälder Freilichtmuse
 um Vogtsbauernhof\n Vogtsbauernhof\, 77793 Gutach (Schwarzwaldbahn)\n Vera
 nstalter:\n Schwarzwälder Freilichtmuseum Vogtsbauernhof\n Termin:\n Begin
 n: 28.06.2026\, 11:00 Uhr\n Ende: 28.06.2026\n Link:\n Zur Detailseite
DTSTART;TZID=Europe/Berlin:20260628T110000
DTEND;TZID=Europe/Berlin:20260628T140000
LOCATION:Schwarzwälder Freilichtmuseum Vogtsbauernhof\, Vogtsbauernhof\, 77
 793 Gutach (Schwarzwaldbahn)
SUMMARY:Begegnungen: Der Schwarzwald wie er im Buche steht\, Schwarzwälder 
 Freilichtmuseum Vogtsbauernhof
X-ALT-DESC;FMTTYPE=text/html:<strong>Kurzbeschreibung:</strong><br/>Regiona
 len Autoren sind zu Gast in den Stuben des Freilichtmuseum Vogtsbauernhof<
 br /><strong>Ort:</strong><br/>Schwarzwälder Freilichtmuseum Vogtsbauernho
 f<br/>Vogtsbauernhof\, 77793 Gutach (Schwarzwaldbahn)<br /><strong>Veranst
 alter:</strong><br/>Schwarzwälder Freilichtmuseum Vogtsbauernhof<br /><str
 ong>Termin:</strong><br/>Beginn: 28.06.2026\, 11:00 Uhr<br/>Ende: 28.06.20
 26<br /><strong>Link:</strong><br/><a href='https://gutach.ortenaukultur.d
 e/de/veranstaltungen/detail/veranstaltung/id/593904-begegnungen-der-schwar
 zwald-wie-er-im-buche-steht/?vt=1'>Zur Detailseite</a>
END:VEVENT
END:VCALENDAR
