BEGIN:VCALENDAR
VERSION:2.0
PRODID:-//gutach.ortenaukultur.de//NONSGML kigkonsult.se iCalcreator 2.41.92//
CALSCALE:GREGORIAN
METHOD:PUBLISH
UID:36386638-3530-4838-b866-623835366664
X-WR-TIMEZONE:Europe/Berlin
X-LIC-LOCATION:Europe/Berlin
BEGIN:VEVENT
UID:593906-kulturportal@gutach.ortenaukultur.de
DTSTAMP:20260424T213829Z
DESCRIPTION:Kurzbeschreibung:\n Die Musik macht‘s - Ein Museumstag voller M
 usik im Freilichtmuseum Vogtsbauernhof\n Ort:\n Schwarzwälder Freilichtmus
 eum Vogtsbauernhof\n Vogtsbauernhof\, 77793 Gutach (Schwarzwaldbahn)\n Ver
 anstalter:\n Schwarzwälder Freilichtmuseum Vogtsbauernhof\n Termin:\n Begi
 nn: 26.07.2026\, 11:00 Uhr\n Ende: 26.07.2026\n Link:\n Zur Detailseite
DTSTART;TZID=Europe/Berlin:20260726T110000
DTEND;TZID=Europe/Berlin:20260726T140000
LOCATION:Schwarzwälder Freilichtmuseum Vogtsbauernhof\, Vogtsbauernhof\, 77
 793 Gutach (Schwarzwaldbahn)
SUMMARY:Begegnungen: Die Musik macht‘s\, Schwarzwälder Freilichtmuseum Vogt
 sbauernhof
X-ALT-DESC;FMTTYPE=text/html:<strong>Kurzbeschreibung:</strong><br/>Die Mus
 ik macht‘s  - Ein Museumstag voller Musik im Freilichtmuseum Vogtsbauernho
 f<br /><strong>Ort:</strong><br/>Schwarzwälder Freilichtmuseum Vogtsbauern
 hof<br/>Vogtsbauernhof\, 77793 Gutach (Schwarzwaldbahn)<br /><strong>Veran
 stalter:</strong><br/>Schwarzwälder Freilichtmuseum Vogtsbauernhof<br /><s
 trong>Termin:</strong><br/>Beginn: 26.07.2026\, 11:00 Uhr<br/>Ende: 26.07.
 2026<br /><strong>Link:</strong><br/><a href='https://gutach.ortenaukultur
 .de/de/veranstaltungen/detail/veranstaltung/id/593906-begegnungen-die-musi
 k-macht-s/?vt=1'>Zur Detailseite</a>
END:VEVENT
END:VCALENDAR
