BEGIN:VCALENDAR
VERSION:2.0
PRODID:-//gutach.ortenaukultur.de//NONSGML kigkonsult.se iCalcreator 2.41.92//
CALSCALE:GREGORIAN
METHOD:PUBLISH
UID:38373235-6535-4166-a232-363430646566
X-WR-TIMEZONE:Europe/Berlin
X-LIC-LOCATION:Europe/Berlin
BEGIN:VEVENT
UID:595153-kulturportal@gutach.ortenaukultur.de
DTSTAMP:20260424T200917Z
DESCRIPTION:Kurzbeschreibung:\n Liebe Mitglieder\, hiermit möchten wir zu u
 nserer Mitgliederversammlung im evangelischen Gemeindehaus in Gutach einla
 den.\n Ort:\n Evangelisches Gemeindehaus\n Langenbacherweg 13\, 77793 Guta
 ch (Schwarzwaldbahn)\n Veranstalter:\n Bühlersteiner Hexen Gutach e.V.\n T
 ermin:\n Beginn: 09.05.2026\, 18:00 Uhr\n Ende: 09.05.2026\n Link:\n Zur D
 etailseite
DTSTART;TZID=Europe/Berlin:20260509T180000
DTEND;TZID=Europe/Berlin:20260509T210000
LOCATION:Evangelisches Gemeindehaus\, Langenbacherweg 13\, 77793 Gutach (Sc
 hwarzwaldbahn)
SUMMARY:Mitgliederversammlung\, Evangelisches Gemeindehaus
X-ALT-DESC;FMTTYPE=text/html:<strong>Kurzbeschreibung:</strong><br/>Liebe M
 itglieder\, \nhiermit möchten wir zu unserer Mitgliederversammlung im evan
 gelischen Gemeindehaus in Gutach einladen.<br /><strong>Ort:</strong><br/>
 Evangelisches Gemeindehaus<br/>Langenbacherweg 13\, 77793  Gutach (Schwarz
 waldbahn)<br /><strong>Veranstalter:</strong><br/>Bühlersteiner Hexen Guta
 ch e.V.<br /><strong>Termin:</strong><br/>Beginn: 09.05.2026\, 18:00 Uhr<b
 r/>Ende: 09.05.2026<br /><strong>Link:</strong><br/><a href='https://gutac
 h.ortenaukultur.de/de/veranstaltungen/detail/veranstaltung/id/595153-mitgl
 iederversammlung/?vt=1'>Zur Detailseite</a>
END:VEVENT
END:VCALENDAR
