BEGIN:VCALENDAR
VERSION:2.0
PRODID:-//gutach.ortenaukultur.de//NONSGML kigkonsult.se iCalcreator 2.41.92//
CALSCALE:GREGORIAN
METHOD:PUBLISH
UID:36323539-3363-4139-b635-353164316161
X-WR-TIMEZONE:Europe/Berlin
X-LIC-LOCATION:Europe/Berlin
BEGIN:VEVENT
UID:586218-kulturportal@gutach.ortenaukultur.de
DTSTAMP:20260424T161745Z
DESCRIPTION:Kurzbeschreibung:\n Die Gemeinde Gutach veranstaltet am\n Ort:
 \n Festhalle\n Hauptstr. 40\, 77793 Gutach (Schwarzwaldbahn)\n Veranstalte
 r:\n Gemeindeverwaltung Gutach\n Termin:\n Beginn: 30.04.2026\, 19:00 Uhr
 \n Ende: 30.04.2026\n Link:\n Zur Detailseite
DTSTART;TZID=Europe/Berlin:20260430T190000
DTEND;TZID=Europe/Berlin:20260430T220000
LOCATION:Festhalle\, Hauptstr. 40\, 77793 Gutach (Schwarzwaldbahn)
SUMMARY:Tanz in den Mai\, Festhalle
X-ALT-DESC;FMTTYPE=text/html:<strong>Kurzbeschreibung:</strong><br/>Die Gem
 einde Gutach veranstaltet am<br /><strong>Ort:</strong><br/>Festhalle<br/>
 Hauptstr. 40\, 77793 Gutach (Schwarzwaldbahn)<br /><strong>Veranstalter:</
 strong><br/>Gemeindeverwaltung Gutach<br /><strong>Termin:</strong><br/>Be
 ginn: 30.04.2026\, 19:00 Uhr<br/>Ende: 30.04.2026<br /><strong>Link:</stro
 ng><br/><a href='https://gutach.ortenaukultur.de/de/veranstaltungen/detail
 /veranstaltung/id/586218-tanz-in-den-mai/?vt=1'>Zur Detailseite</a>
END:VEVENT
END:VCALENDAR
