BEGIN:VCALENDAR
VERSION:2.0
PRODID:-//gutach.ortenaukultur.de//NONSGML kigkonsult.se iCalcreator 2.41.92//
CALSCALE:GREGORIAN
METHOD:PUBLISH
UID:32616538-3636-4430-a165-386433363838
X-WR-TIMEZONE:Europe/Berlin
X-LIC-LOCATION:Europe/Berlin
BEGIN:VEVENT
UID:587241-kulturportal@gutach.ortenaukultur.de
DTSTAMP:20260424T180634Z
DESCRIPTION:Kurzbeschreibung:\n mit den Wälder Böhmischen.\n Ort:\n Festhal
 le\n Hauptstr. 40\, 77793 Gutach (Schwarzwaldbahn)\n Veranstalter:\n Schwa
 rzwaldverein - Ortsgruppe Gutach e.V.\n Termin:\n Beginn: 31.10.2026\, 20:
 00 Uhr\n Ende: 31.10.2026\n Link:\n Zur Detailseite
DTSTART;TZID=Europe/Berlin:20261031T200000
DTEND;TZID=Europe/Berlin:20261031T230000
LOCATION:Festhalle\, Hauptstr. 40\, 77793 Gutach (Schwarzwaldbahn)
SUMMARY:Konzert \, Festhalle
X-ALT-DESC;FMTTYPE=text/html:<strong>Kurzbeschreibung:</strong><br/>mit den
  Wälder Böhmischen.<br /><strong>Ort:</strong><br/>Festhalle<br/>Hauptstr.
  40\, 77793 Gutach (Schwarzwaldbahn)<br /><strong>Veranstalter:</strong><b
 r/>Schwarzwaldverein - Ortsgruppe Gutach e.V.<br /><strong>Termin:</strong
 ><br/>Beginn: 31.10.2026\, 20:00 Uhr<br/>Ende: 31.10.2026<br /><strong>Lin
 k:</strong><br/><a href='https://gutach.ortenaukultur.de/de/veranstaltunge
 n/detail/veranstaltung/id/587241-konzert/?vt=1'>Zur Detailseite</a>
END:VEVENT
END:VCALENDAR
