BEGIN:VCALENDAR
VERSION:2.0
PRODID:-//gutach.ortenaukultur.de//NONSGML kigkonsult.se iCalcreator 2.41.92//
CALSCALE:GREGORIAN
METHOD:PUBLISH
UID:39313434-6432-4331-b461-386638663234
X-WR-TIMEZONE:Europe/Berlin
X-LIC-LOCATION:Europe/Berlin
BEGIN:VEVENT
UID:528603-kulturportal@gutach.ortenaukultur.de
DTSTAMP:20260424T211759Z
DESCRIPTION:Kurzbeschreibung:\n Trachtenkapelle Gutach e.V.\n Ort:\n Festha
 lle\n Hauptstr. 40\, 77793 Gutach (Schwarzwaldbahn)\n Veranstalter:\n Trac
 htenkapelle Gutach e.V.\n Termin:\n Beginn: 28.11.2026\, 19:00 Uhr\n Ende:
  28.11.2026\n Link:\n Page détaillée
DTSTART;TZID=Europe/Berlin:20261128T190000
DTEND;TZID=Europe/Berlin:20261128T220000
LOCATION:Festhalle\, Hauptstr. 40\, 77793 Gutach (Schwarzwaldbahn)
SUMMARY:Jahreskonzert\, Festhalle
X-ALT-DESC;FMTTYPE=text/html:<strong>Kurzbeschreibung:</strong><br/>Trachte
 nkapelle Gutach e.V.<br /><strong>Ort:</strong><br/>Festhalle<br/>Hauptstr
 . 40\, 77793 Gutach (Schwarzwaldbahn)<br /><strong>Veranstalter:</strong><
 br/>Trachtenkapelle Gutach e.V.<br /><strong>Termin:</strong><br/>Beginn: 
 28.11.2026\, 19:00 Uhr<br/>Ende: 28.11.2026<br /><strong>Link:</strong><br
 /><a href='https://gutach.ortenaukultur.de/fr/evenements/detail/evenement/
 id/528603-jahreskonzert/?vt=1'>Page détaillée </a>
END:VEVENT
END:VCALENDAR
