BEGIN:VCALENDAR
VERSION:2.0
PRODID:-//gutach.ortenaukultur.de//NONSGML kigkonsult.se iCalcreator 2.41.92//
CALSCALE:GREGORIAN
METHOD:PUBLISH
UID:31653931-3734-4432-a264-363238613336
X-WR-TIMEZONE:Europe/Berlin
X-LIC-LOCATION:Europe/Berlin
BEGIN:VEVENT
UID:559044-kulturportal@gutach.ortenaukultur.de
DTSTAMP:20260425T003640Z
DESCRIPTION:Kurzbeschreibung:\n Gutacher Weihnachtskrippe gestaltet von den
  Hobbykünstlern Gutachtal e.V.\, mit der Trachtenkapelle Gutach e.V. Zusät
 zlich ein Besuch vom Nikolaus.\n Ort:\n Kurpark\n Siedlung 3 a\, 77793 Gut
 ach (Schwarzwaldbahn)\n Veranstalter:\n Hobbykünstler Gutachtal e.V.\n Ter
 min:\n Beginn: 28.11.2026\, 17:00 Uhr\n Ende: 28.11.2026\n Link:\n Page dé
 taillée
DTSTART;TZID=Europe/Berlin:20261128T170000
DTEND;TZID=Europe/Berlin:20261128T200000
LOCATION:Kurpark\, Siedlung 3 a\, 77793 Gutach (Schwarzwaldbahn)
SUMMARY:Eröffnung der Gutacher Weihnachtskrippe \, Kurpark
X-ALT-DESC;FMTTYPE=text/html:<strong>Kurzbeschreibung:</strong><br/>Gutache
 r Weihnachtskrippe gestaltet von den Hobbykünstlern Gutachtal e.V.\, mit d
 er Trachtenkapelle Gutach e.V. Zusätzlich ein Besuch vom Nikolaus.<br /><s
 trong>Ort:</strong><br/>Kurpark<br/>Siedlung 3 a\, 77793 Gutach (Schwarzwa
 ldbahn)<br /><strong>Veranstalter:</strong><br/>Hobbykünstler Gutachtal e.
 V.<br /><strong>Termin:</strong><br/>Beginn: 28.11.2026\, 17:00 Uhr<br/>En
 de: 28.11.2026<br /><strong>Link:</strong><br/><a href='https://gutach.ort
 enaukultur.de/fr/evenements/detail/evenement/id/559044-eroeffnung-der-guta
 cher-weihnachtskrippe/?vt=1'>Page détaillée </a>
END:VEVENT
END:VCALENDAR
