BEGIN:VCALENDAR
VERSION:2.0
PRODID:-//gutach.ortenaukultur.de//NONSGML kigkonsult.se iCalcreator 2.41.92//
CALSCALE:GREGORIAN
METHOD:PUBLISH
UID:31646433-6534-4866-b763-633062373062
X-WR-TIMEZONE:Europe/Berlin
X-LIC-LOCATION:Europe/Berlin
BEGIN:VEVENT
UID:559051-kulturportal@gutach.ortenaukultur.de
DTSTAMP:20260424T225922Z
DESCRIPTION:Kurzbeschreibung:\n Evangelische Kirchengemeinde.\n Ort:\n Evan
 gelische Peterskirche\n Kirchstraße\, 77793 Gutach (Schwarzwaldbahn)\n Ver
 anstalter:\n Evangelische Kirchengemeinde\n Termin:\n Beginn: 31.12.2026\,
  19:00 Uhr\n Ende: 31.12.2026\n Link:\n Page détaillée
DTSTART;TZID=Europe/Berlin:20261231T190000
DTEND;TZID=Europe/Berlin:20261231T220000
LOCATION:Evangelische Peterskirche\, Kirchstraße\, 77793 Gutach (Schwarzwal
 dbahn)
SUMMARY:Gottesdienst zum Altjahresabend\, Evangelische Peterskirche
X-ALT-DESC;FMTTYPE=text/html:<strong>Kurzbeschreibung:</strong><br/>Evangel
 ische Kirchengemeinde.<br /><strong>Ort:</strong><br/>Evangelische Petersk
 irche<br/>Kirchstraße\, 77793 Gutach (Schwarzwaldbahn)<br /><strong>Verans
 talter:</strong><br/>Evangelische Kirchengemeinde<br /><strong>Termin:</st
 rong><br/>Beginn: 31.12.2026\, 19:00 Uhr<br/>Ende: 31.12.2026<br /><strong
 >Link:</strong><br/><a href='https://gutach.ortenaukultur.de/fr/evenements
 /detail/evenement/id/559051-gottesdienst-zum-altjahresabend/?vt=1'>Page dé
 taillée </a>
END:VEVENT
END:VCALENDAR
