BEGIN:VCALENDAR
VERSION:2.0
PRODID:-//gutach.ortenaukultur.de//NONSGML kigkonsult.se iCalcreator 2.41.92//
CALSCALE:GREGORIAN
METHOD:PUBLISH
UID:65393462-3837-4763-b535-663362346639
X-WR-TIMEZONE:Europe/Berlin
X-LIC-LOCATION:Europe/Berlin
BEGIN:VEVENT
UID:586016-kulturportal@gutach.ortenaukultur.de
DTSTAMP:20260425T114617Z
DESCRIPTION:Kurzbeschreibung:\n Die evangelische Kirchengemeinde und das Or
 ganisationsteam laden Sie am Donnerstag\, dem 16. April 2026 herzlich zu i
 hrem ersten Ausflug in diesem Jahr ein.\n Ort:\n wird noch bekanntgegeben\
 , Gutach\n Veranstalter:\n Evangelische Kirchengemeinde\n Termin:\n Beginn
 : 11.06.2026\, 13:00 Uhr\n Ende: 11.06.2026\n Link:\n Page détaillée
DTSTART;TZID=Europe/Berlin:20260611T130000
DTEND;TZID=Europe/Berlin:20260611T160000
LOCATION:wird noch bekanntgegeben\, Gutach
SUMMARY:Seniorenfahrt\, wird noch bekanntgegeben
X-ALT-DESC;FMTTYPE=text/html:<strong>Kurzbeschreibung:</strong><br/>Die eva
 ngelische Kirchengemeinde und das Organisationsteam laden Sie am Donnersta
 g\, dem 16. April 2026 herzlich zu ihrem ersten Ausflug in diesem Jahr ein
 .<br /><strong>Ort:</strong><br/>wird noch bekanntgegeben\, Gutach<br /><s
 trong>Veranstalter:</strong><br/>Evangelische Kirchengemeinde<br /><strong
 >Termin:</strong><br/>Beginn: 11.06.2026\, 13:00 Uhr<br/>Ende: 11.06.2026<
 br /><strong>Link:</strong><br/><a href='https://gutach.ortenaukultur.de/f
 r/evenements/detail/evenement/id/586016-seniorenfahrt/?vt=1'>Page détaillé
 e </a>
END:VEVENT
END:VCALENDAR
