BEGIN:VCALENDAR
VERSION:2.0
PRODID:-//gutach.ortenaukultur.de//NONSGML kigkonsult.se iCalcreator 2.41.92//
CALSCALE:GREGORIAN
METHOD:PUBLISH
UID:38343163-3463-4663-b732-306530363935
X-WR-TIMEZONE:Europe/Berlin
X-LIC-LOCATION:Europe/Berlin
BEGIN:VEVENT
UID:586069-kulturportal@gutach.ortenaukultur.de
DTSTAMP:20260424T225445Z
DESCRIPTION:Kurzbeschreibung:\n Für alle Neubürgerinnen und Neubürger der G
 emeinde Gutach.\n Ort:\n Rathaus Gutach\n Hauptstraße 38\, 77793 Gutach (S
 chwarzwaldbahn)\n Veranstalter:\n Gemeindeverwaltung Gutach\n Termin:\n Be
 ginn: 13.05.2026\, 19:00 Uhr\n Ende: 13.05.2026\n Link:\n Page détaillée
DTSTART;TZID=Europe/Berlin:20260513T190000
DTEND;TZID=Europe/Berlin:20260513T220000
LOCATION:Rathaus Gutach\, Hauptstraße 38\, 77793 Gutach (Schwarzwaldbahn)
SUMMARY:Neubürger-Infoabend\, Rathaus Gutach
X-ALT-DESC;FMTTYPE=text/html:<strong>Kurzbeschreibung:</strong><br/>Für all
 e Neubürgerinnen und Neubürger der Gemeinde Gutach.<br /><strong>Ort:</str
 ong><br/>Rathaus Gutach<br/>Hauptstraße 38\, 77793 Gutach (Schwarzwaldbahn
 )<br /><strong>Veranstalter:</strong><br/>Gemeindeverwaltung Gutach<br /><
 strong>Termin:</strong><br/>Beginn: 13.05.2026\, 19:00 Uhr<br/>Ende: 13.05
 .2026<br /><strong>Link:</strong><br/><a href='https://gutach.ortenaukultu
 r.de/fr/evenements/detail/evenement/id/586069-neubuerger-infoabend/?vt=1'>
 Page détaillée </a>
END:VEVENT
END:VCALENDAR
