BEGIN:VCALENDAR
VERSION:2.0
PRODID:-//gutach.ortenaukultur.de//NONSGML kigkonsult.se iCalcreator 2.41.92//
CALSCALE:GREGORIAN
METHOD:PUBLISH
UID:36303531-6564-4663-b833-346634646461
X-WR-TIMEZONE:Europe/Berlin
X-LIC-LOCATION:Europe/Berlin
BEGIN:VEVENT
UID:586071-kulturportal@gutach.ortenaukultur.de
DTSTAMP:20260424T193850Z
DESCRIPTION:Kurzbeschreibung:\n Trachtenkapelle Gutach e.V.\n Ort:\n wird n
 och bekanntgegeben\n Wählerbrücke 4\, 77793 Gutach (Schwarzwaldbahn)\n Ver
 anstalter:\n Trachtenkapelle Gutach e.V.\n Termin:\n Beginn: 23.05.2026\n 
 Ende: 23.05.2026\n Link:\n Page détaillée
DTSTART;TZID=Europe/Berlin:20260523T000000
DTEND;TZID=Europe/Berlin:20260523T030000
LOCATION:wird noch bekanntgegeben\, Wählerbrücke 4\, 77793 Gutach (Schwarzw
 aldbahn)
SUMMARY:Kurkonzert\, Weber's Esszeit
X-ALT-DESC;FMTTYPE=text/html:<strong>Kurzbeschreibung:</strong><br/>Trachte
 nkapelle Gutach e.V.<br /><strong>Ort:</strong><br/>wird noch bekanntgegeb
 en<br/>Wählerbrücke 4\, 77793 Gutach (Schwarzwaldbahn)<br /><strong>Verans
 talter:</strong><br/>Trachtenkapelle Gutach e.V.<br /><strong>Termin:</str
 ong><br/>Beginn: 23.05.2026<br/>Ende: 23.05.2026<br /><strong>Link:</stron
 g><br/><a href='https://gutach.ortenaukultur.de/fr/evenements/detail/evene
 ment/id/586071-kurkonzert/?vt=1'>Page détaillée </a>
END:VEVENT
END:VCALENDAR
