BEGIN:VCALENDAR
VERSION:2.0
PRODID:-//gutach.ortenaukultur.de//NONSGML kigkonsult.se iCalcreator 2.41.92//
CALSCALE:GREGORIAN
METHOD:PUBLISH
UID:62306366-3136-4166-b464-626235306139
X-WR-TIMEZONE:Europe/Berlin
X-LIC-LOCATION:Europe/Berlin
BEGIN:VEVENT
UID:586073-kulturportal@gutach.ortenaukultur.de
DTSTAMP:20260424T224954Z
DESCRIPTION:Kurzbeschreibung:\n Während der Pfingstferien bietet das Freili
 chtmuseum Vogtsbauernhof jeden Tag ein Programm zum Mitmachen an. Mehr Inf
 ormationen unter www.vogtsbauernhof.de.\n Ort:\n Schwarzwälder Freilichtmu
 seum Vogtsbauernhof\n Vogtsbauernhof\, 77793 Gutach (Schwarzwaldbahn)\n Ve
 ranstalter:\n Schwarzwälder Freilichtmuseum Vogtsbauernhof\n Termin:\n Beg
 inn: 24.05.2026\, 11:00 Uhr\n Ende: 24.05.2026\n Link:\n Page détaillée
DTSTART;TZID=Europe/Berlin:20260524T110000
DTEND;TZID=Europe/Berlin:20260524T140000
LOCATION:Schwarzwälder Freilichtmuseum Vogtsbauernhof\, Vogtsbauernhof\, 77
 793 Gutach (Schwarzwaldbahn)
SUMMARY:Pfingstferienprogramm\, Schwarzwälder Freilichtmuseum Vogtsbauernho
 f
X-ALT-DESC;FMTTYPE=text/html:<strong>Kurzbeschreibung:</strong><br/>Während
  der Pfingstferien bietet das Freilichtmuseum Vogtsbauernhof jeden Tag ein
  Programm zum Mitmachen an. Mehr Informationen unter www.vogtsbauernhof.de
 .<br /><strong>Ort:</strong><br/>Schwarzwälder Freilichtmuseum Vogtsbauern
 hof<br/>Vogtsbauernhof\, 77793 Gutach (Schwarzwaldbahn)<br /><strong>Veran
 stalter:</strong><br/>Schwarzwälder Freilichtmuseum Vogtsbauernhof<br /><s
 trong>Termin:</strong><br/>Beginn: 24.05.2026\, 11:00 Uhr<br/>Ende: 24.05.
 2026<br /><strong>Link:</strong><br/><a href='https://gutach.ortenaukultur
 .de/fr/evenements/detail/evenement/id/586073-pfingstferienprogramm/?vt=1'>
 Page détaillée </a>
END:VEVENT
END:VCALENDAR
