BEGIN:VCALENDAR
VERSION:2.0
PRODID:-//gutach.ortenaukultur.de//NONSGML kigkonsult.se iCalcreator 2.41.92//
CALSCALE:GREGORIAN
METHOD:PUBLISH
UID:64623266-3739-4639-a662-343136643431
X-WR-TIMEZONE:Europe/Berlin
X-LIC-LOCATION:Europe/Berlin
BEGIN:VEVENT
UID:586082-kulturportal@gutach.ortenaukultur.de
DTSTAMP:20260425T004321Z
DESCRIPTION:Kurzbeschreibung:\n Turn- und Sportverein Gutach 1901 e.V.\n Or
 t:\n Liebich-Sporthalle\n Hauptstr. 16\, 77793 Gutach (Schwarzwaldbahn)\n 
 Veranstalter:\n Turn- und Sportverein Gutach 1901 e.V.\n Termin:\n Beginn:
  07.06.2026\n Ende: 07.06.2026\n Link:\n Page détaillée
DTSTART;TZID=Europe/Berlin:20260607T000000
DTEND;TZID=Europe/Berlin:20260607T030000
LOCATION:Liebich-Sporthalle\, Hauptstr. 16\, 77793 Gutach (Schwarzwaldbahn)
SUMMARY:Handball-Dorfsportwoche\, Liebich-Sporthalle
X-ALT-DESC;FMTTYPE=text/html:<strong>Kurzbeschreibung:</strong><br/>Turn- u
 nd Sportverein Gutach 1901 e.V.<br /><strong>Ort:</strong><br/>Liebich-Spo
 rthalle<br/>Hauptstr. 16\, 77793 Gutach (Schwarzwaldbahn)<br /><strong>Ver
 anstalter:</strong><br/>Turn- und Sportverein Gutach 1901 e.V.<br /><stron
 g>Termin:</strong><br/>Beginn: 07.06.2026<br/>Ende: 07.06.2026<br /><stron
 g>Link:</strong><br/><a href='https://gutach.ortenaukultur.de/fr/evenement
 s/detail/evenement/id/586082-handball-dorfsportwoche/?vt=1'>Page détaillée
  </a>
END:VEVENT
END:VCALENDAR
