BEGIN:VCALENDAR
VERSION:2.0
PRODID:-//gutach.ortenaukultur.de//NONSGML kigkonsult.se iCalcreator 2.41.92//
CALSCALE:GREGORIAN
METHOD:PUBLISH
UID:63366234-6638-4836-b062-386334623761
X-WR-TIMEZONE:Europe/Berlin
X-LIC-LOCATION:Europe/Berlin
BEGIN:VEVENT
UID:586086-kulturportal@gutach.ortenaukultur.de
DTSTAMP:20260424T231001Z
DESCRIPTION:Kurzbeschreibung:\n Festzelt auf dem Kleinspielfeld bei der Lie
 bich-Sporthalle.\n Ort:\n Liebich-Sporthalle\n Hauptstr. 16\, 77793 Gutach
  (Schwarzwaldbahn)\n Veranstalter:\n Evangelische Kirchengemeinde\n Termin
 :\n Beginn: 07.06.2026\, 09:30 Uhr\n Ende: 07.06.2026\n Link:\n Page détai
 llée
DTSTART;TZID=Europe/Berlin:20260607T093000
DTEND;TZID=Europe/Berlin:20260607T123000
LOCATION:Liebich-Sporthalle\, Hauptstr. 16\, 77793 Gutach (Schwarzwaldbahn)
SUMMARY:Gottesdienst zur Dorfsportwoche\, Liebich-Sporthalle
X-ALT-DESC;FMTTYPE=text/html:<strong>Kurzbeschreibung:</strong><br/>Festzel
 t auf dem Kleinspielfeld bei der Liebich-Sporthalle.<br /><strong>Ort:</st
 rong><br/>Liebich-Sporthalle<br/>Hauptstr. 16\, 77793 Gutach (Schwarzwaldb
 ahn)<br /><strong>Veranstalter:</strong><br/>Evangelische Kirchengemeinde<
 br /><strong>Termin:</strong><br/>Beginn: 07.06.2026\, 09:30 Uhr<br/>Ende:
  07.06.2026<br /><strong>Link:</strong><br/><a href='https://gutach.ortena
 ukultur.de/fr/evenements/detail/evenement/id/586086-gottesdienst-zur-dorfs
 portwoche/?vt=1'>Page détaillée </a>
END:VEVENT
END:VCALENDAR
