BEGIN:VCALENDAR
VERSION:2.0
PRODID:-//gutach.ortenaukultur.de//NONSGML kigkonsult.se iCalcreator 2.41.92//
CALSCALE:GREGORIAN
METHOD:PUBLISH
UID:64353236-6366-4461-a236-616432373762
X-WR-TIMEZONE:Europe/Berlin
X-LIC-LOCATION:Europe/Berlin
BEGIN:VEVENT
UID:586088-kulturportal@gutach.ortenaukultur.de
DTSTAMP:20260424T230743Z
DESCRIPTION:Kurzbeschreibung:\n In einem halbstündigen Programm wird die Gu
 tacher Tracht vorgestellt.\n Ort:\n wird noch bekanntgegeben\, Gutach\n Ve
 ranstalter:\n Trachtenkapelle Gutach e.V.\n Termin:\n Beginn: 09.07.2026\n
  Ende: 09.07.2026\n Link:\n Page détaillée
DTSTART;TZID=Europe/Berlin:20260709T000000
DTEND;TZID=Europe/Berlin:20260709T030000
LOCATION:wird noch bekanntgegeben\, Gutach
SUMMARY:'Hofhockede - Ein Brauchtums-Käfer schwärmt aus'\, wird noch bekann
 tgegeben
X-ALT-DESC;FMTTYPE=text/html:<strong>Kurzbeschreibung:</strong><br/>In eine
 m halbstündigen Programm wird die Gutacher Tracht vorgestellt. <br /><stro
 ng>Ort:</strong><br/>wird noch bekanntgegeben\, Gutach<br /><strong>Verans
 talter:</strong><br/>Trachtenkapelle Gutach e.V.<br /><strong>Termin:</str
 ong><br/>Beginn: 09.07.2026<br/>Ende: 09.07.2026<br /><strong>Link:</stron
 g><br/><a href='https://gutach.ortenaukultur.de/fr/evenements/detail/evene
 ment/id/586088-hofhockede-ein-brauchtums-kaefer-schwaermt-aus/?vt=1'>Page 
 détaillée </a>
END:VEVENT
END:VCALENDAR
