BEGIN:VCALENDAR
VERSION:2.0
PRODID:-//gutach.ortenaukultur.de//NONSGML kigkonsult.se iCalcreator 2.41.92//
CALSCALE:GREGORIAN
METHOD:PUBLISH
UID:64393232-6166-4638-b032-353062303930
X-WR-TIMEZONE:Europe/Berlin
X-LIC-LOCATION:Europe/Berlin
BEGIN:VEVENT
UID:586205-kulturportal@gutach.ortenaukultur.de
DTSTAMP:20260424T225514Z
DESCRIPTION:Kurzbeschreibung:\n Gottesdienst im Kurpark\, anschließend Somm
 erfest mit Bewirtung und musikalischer Unterhaltung.\n Ort:\n Kurpark\n Si
 edlung 3 a\, 77793 Gutach (Schwarzwaldbahn)\n Veranstalter:\n Schwarzwaldv
 erein - Ortsgruppe Gutach e.V.\n Termin:\n Beginn: 21.06.2026\, 10:00 Uhr
 \n Ende: 21.06.2026\n Link:\n Page détaillée
DTSTART;TZID=Europe/Berlin:20260621T100000
DTEND;TZID=Europe/Berlin:20260621T130000
LOCATION:Kurpark\, Siedlung 3 a\, 77793 Gutach (Schwarzwaldbahn)
SUMMARY:Sommerfest\, Kurpark
X-ALT-DESC;FMTTYPE=text/html:<strong>Kurzbeschreibung:</strong><br/>Gottesd
 ienst im Kurpark\, anschließend Sommerfest mit Bewirtung und musikalischer
  Unterhaltung.<br /><strong>Ort:</strong><br/>Kurpark<br/>Siedlung 3 a\, 7
 7793 Gutach (Schwarzwaldbahn)<br /><strong>Veranstalter:</strong><br/>Schw
 arzwaldverein - Ortsgruppe Gutach e.V.<br /><strong>Termin:</strong><br/>B
 eginn: 21.06.2026\, 10:00 Uhr<br/>Ende: 21.06.2026<br /><strong>Link:</str
 ong><br/><a href='https://gutach.ortenaukultur.de/fr/evenements/detail/eve
 nement/id/586205-sommerfest/?vt=1'>Page détaillée </a>
END:VEVENT
END:VCALENDAR
