BEGIN:VCALENDAR
VERSION:2.0
PRODID:-//gutach.ortenaukultur.de//NONSGML kigkonsult.se iCalcreator 2.41.92//
CALSCALE:GREGORIAN
METHOD:PUBLISH
UID:62663664-3266-4233-b631-353933356235
X-WR-TIMEZONE:Europe/Berlin
X-LIC-LOCATION:Europe/Berlin
BEGIN:VEVENT
UID:586208-kulturportal@gutach.ortenaukultur.de
DTSTAMP:20260425T102234Z
DESCRIPTION:Kurzbeschreibung:\n Beim alljährlichen Treffpunkt der Oldtimer-
 Traktoren-Freunde wird es wieder tuckern\, scheppern\, klopfen und rattern
 .\n Ort:\n Schwarzwälder Freilichtmuseum Vogtsbauernhof\n Vogtsbauernhof\,
  77793 Gutach (Schwarzwaldbahn)\n Veranstalter:\n Schwarzwälder Freilichtm
 useum Vogtsbauernhof\n Termin:\n Beginn: 19.07.2026\, 11:00 Uhr\n Ende: 19
 .07.2026\n Link:\n Page détaillée
DTSTART;TZID=Europe/Berlin:20260719T110000
DTEND;TZID=Europe/Berlin:20260719T140000
LOCATION:Schwarzwälder Freilichtmuseum Vogtsbauernhof\, Vogtsbauernhof\, 77
 793 Gutach (Schwarzwaldbahn)
SUMMARY:Oldtimer-Traktoren-Treffen\, Schwarzwälder Freilichtmuseum Vogtsbau
 ernhof
X-ALT-DESC;FMTTYPE=text/html:<strong>Kurzbeschreibung:</strong><br/>Beim al
 ljährlichen Treffpunkt der Oldtimer-Traktoren-Freunde wird es wieder tucke
 rn\, scheppern\, klopfen und rattern.<br /><strong>Ort:</strong><br/>Schwa
 rzwälder Freilichtmuseum Vogtsbauernhof<br/>Vogtsbauernhof\, 77793 Gutach 
 (Schwarzwaldbahn)<br /><strong>Veranstalter:</strong><br/>Schwarzwälder Fr
 eilichtmuseum Vogtsbauernhof<br /><strong>Termin:</strong><br/>Beginn: 19.
 07.2026\, 11:00 Uhr<br/>Ende: 19.07.2026<br /><strong>Link:</strong><br/><
 a href='https://gutach.ortenaukultur.de/fr/evenements/detail/evenement/id/
 586208-oldtimer-traktoren-treffen/?vt=1'>Page détaillée </a>
END:VEVENT
END:VCALENDAR
