BEGIN:VCALENDAR
VERSION:2.0
PRODID:-//gutach.ortenaukultur.de//NONSGML kigkonsult.se iCalcreator 2.41.92//
CALSCALE:GREGORIAN
METHOD:PUBLISH
UID:33313330-3337-4533-a466-633364646435
X-WR-TIMEZONE:Europe/Berlin
X-LIC-LOCATION:Europe/Berlin
BEGIN:VEVENT
UID:586213-kulturportal@gutach.ortenaukultur.de
DTSTAMP:20260425T003916Z
DESCRIPTION:Kurzbeschreibung:\n Kurpark\n Ort:\n Kurpark\n Siedlung 3 a\, 7
 7793 Gutach (Schwarzwaldbahn)\n Veranstalter:\n Gemeindeverwaltung Gutach
 \n Termin:\n Beginn: 31.07.2026\, 18:30 Uhr\n Ende: 31.07.2026\n Link:\n P
 age détaillée
DTSTART;TZID=Europe/Berlin:20260731T183000
DTEND;TZID=Europe/Berlin:20260731T213000
LOCATION:Kurpark\, Siedlung 3 a\, 77793 Gutach (Schwarzwaldbahn)
SUMMARY:kulinarische lange Tafel\, Kurpark
X-ALT-DESC;FMTTYPE=text/html:<strong>Kurzbeschreibung:</strong><br/>Kurpark
 <br /><strong>Ort:</strong><br/>Kurpark<br/>Siedlung 3 a\, 77793 Gutach (S
 chwarzwaldbahn)<br /><strong>Veranstalter:</strong><br/>Gemeindeverwaltung
  Gutach<br /><strong>Termin:</strong><br/>Beginn: 31.07.2026\, 18:30 Uhr<b
 r/>Ende: 31.07.2026<br /><strong>Link:</strong><br/><a href='https://gutac
 h.ortenaukultur.de/fr/evenements/detail/evenement/id/586213-kulinarische-l
 ange-tafel/?vt=1'>Page détaillée </a>
END:VEVENT
END:VCALENDAR
