BEGIN:VCALENDAR
VERSION:2.0
PRODID:-//gutach.ortenaukultur.de//NONSGML kigkonsult.se iCalcreator 2.41.92//
CALSCALE:GREGORIAN
METHOD:PUBLISH
UID:30666630-6638-4566-a231-636638623539
X-WR-TIMEZONE:Europe/Berlin
X-LIC-LOCATION:Europe/Berlin
BEGIN:VEVENT
UID:586225-kulturportal@gutach.ortenaukultur.de
DTSTAMP:20260425T003901Z
DESCRIPTION:Kurzbeschreibung:\n Rundwanderung mit ca. 7 km im Markgräflerla
 nd mit Einkehr im Privatweingut Schmidt in Heitersheim.\n Ort:\n Parkplatz
  Dorfmitte\n Hauptstraße 48\, 77793 Gutach (Schwarzwaldbahn)\n Veranstalte
 r:\n Schwarzwaldverein - Ortsgruppe Gutach e.V.\n Termin:\n Beginn: 24.05.
 2026\, 09:00 Uhr\n Ende: 24.05.2026\n Link:\n Page détaillée
DTSTART;TZID=Europe/Berlin:20260524T090000
DTEND;TZID=Europe/Berlin:20260524T120000
LOCATION:Parkplatz Dorfmitte\, Hauptstraße 48\, 77793 Gutach (Schwarzwaldba
 hn)
SUMMARY:Mit Sonja in die Deutsche Toskana\, Parkplatz Dorfmitte
X-ALT-DESC;FMTTYPE=text/html:<strong>Kurzbeschreibung:</strong><br/>Rundwan
 derung mit ca. 7 km im Markgräflerland mit Einkehr im Privatweingut Schmid
 t in Heitersheim.<br /><strong>Ort:</strong><br/>Parkplatz Dorfmitte<br/>H
 auptstraße 48\, 77793 Gutach (Schwarzwaldbahn)<br /><strong>Veranstalter:<
 /strong><br/>Schwarzwaldverein - Ortsgruppe Gutach e.V.<br /><strong>Termi
 n:</strong><br/>Beginn: 24.05.2026\, 09:00 Uhr<br/>Ende: 24.05.2026<br /><
 strong>Link:</strong><br/><a href='https://gutach.ortenaukultur.de/fr/even
 ements/detail/evenement/id/586225-mit-sonja-in-die-deutsche-toskana/?vt=1'
 >Page détaillée </a>
END:VEVENT
END:VCALENDAR
