BEGIN:VCALENDAR
VERSION:2.0
PRODID:-//gutach.ortenaukultur.de//NONSGML kigkonsult.se iCalcreator 2.41.92//
CALSCALE:GREGORIAN
METHOD:PUBLISH
UID:38653866-3636-4963-b239-336531663131
X-WR-TIMEZONE:Europe/Berlin
X-LIC-LOCATION:Europe/Berlin
BEGIN:VEVENT
UID:586234-kulturportal@gutach.ortenaukultur.de
DTSTAMP:20260425T102405Z
DESCRIPTION:Kurzbeschreibung:\n Organisation: Jean-Philippe Naudet\n Ort:\n
  Gasthaus Sonne\n Am Turm 8\, 77793 Gutach (Schwarzwaldbahn)\n Veranstalte
 r:\n Schwarzwaldverein - Ortsgruppe Gutach e.V.\n Termin:\n Beginn: 01.08.
 2026\, 08:30 Uhr\n Ende: 01.08.2026\n Link:\n Page détaillée
DTSTART;TZID=Europe/Berlin:20260801T083000
DTEND;TZID=Europe/Berlin:20260801T113000
LOCATION:Gasthaus Sonne\, Am Turm 8\, 77793 Gutach (Schwarzwaldbahn)
SUMMARY:Schänzle-Putzete\, Gasthaus Sonne
X-ALT-DESC;FMTTYPE=text/html:<strong>Kurzbeschreibung:</strong><br/>Organis
 ation: Jean-Philippe Naudet<br /><strong>Ort:</strong><br/>Gasthaus Sonne<
 br/>Am Turm 8\, 77793 Gutach (Schwarzwaldbahn)<br /><strong>Veranstalter:<
 /strong><br/>Schwarzwaldverein - Ortsgruppe Gutach e.V.<br /><strong>Termi
 n:</strong><br/>Beginn: 01.08.2026\, 08:30 Uhr<br/>Ende: 01.08.2026<br /><
 strong>Link:</strong><br/><a href='https://gutach.ortenaukultur.de/fr/even
 ements/detail/evenement/id/586234-schaenzle-putzete/?vt=1'>Page détaillée 
 </a>
END:VEVENT
END:VCALENDAR
