BEGIN:VCALENDAR
VERSION:2.0
PRODID:-//gutach.ortenaukultur.de//NONSGML kigkonsult.se iCalcreator 2.41.92//
CALSCALE:GREGORIAN
METHOD:PUBLISH
UID:31613765-6431-4832-a534-303036636337
X-WR-TIMEZONE:Europe/Berlin
X-LIC-LOCATION:Europe/Berlin
BEGIN:VEVENT
UID:587203-kulturportal@gutach.ortenaukultur.de
DTSTAMP:20260425T152245Z
DESCRIPTION:Kurzbeschreibung:\n Das letzte Augustwochenende lädt die kleine
 n wie die großen Museumsbesucher mit vielerlei Vorführungen und Mitmachpro
 grammen zum bunten Museumsfest ein.\n Ort:\n Schwarzwälder Freilichtmuseum
  Vogtsbauernhof\n Vogtsbauernhof\, 77793 Gutach (Schwarzwaldbahn)\n Verans
 talter:\n Schwarzwälder Freilichtmuseum Vogtsbauernhof\n Termin:\n Beginn:
  30.08.2026\, 11:00 Uhr\n Ende: 30.08.2026\n Link:\n Page détaillée
DTSTART;TZID=Europe/Berlin:20260830T110000
DTEND;TZID=Europe/Berlin:20260830T140000
LOCATION:Schwarzwälder Freilichtmuseum Vogtsbauernhof\, Vogtsbauernhof\, 77
 793 Gutach (Schwarzwaldbahn)
SUMMARY:Sommer- und Familienfest\, Schwarzwälder Freilichtmuseum Vogtsbauer
 nhof
X-ALT-DESC;FMTTYPE=text/html:<strong>Kurzbeschreibung:</strong><br/>Das let
 zte Augustwochenende lädt die kleinen wie die großen Museumsbesucher mit v
 ielerlei Vorführungen und Mitmachprogrammen zum bunten Museumsfest ein.<br
  /><strong>Ort:</strong><br/>Schwarzwälder Freilichtmuseum Vogtsbauernhof<
 br/>Vogtsbauernhof\, 77793 Gutach (Schwarzwaldbahn)<br /><strong>Veranstal
 ter:</strong><br/>Schwarzwälder Freilichtmuseum Vogtsbauernhof<br /><stron
 g>Termin:</strong><br/>Beginn: 30.08.2026\, 11:00 Uhr<br/>Ende: 30.08.2026
 <br /><strong>Link:</strong><br/><a href='https://gutach.ortenaukultur.de/
 fr/evenements/detail/evenement/id/587203-sommer-und-familienfest/?vt=1'>Pa
 ge détaillée </a>
END:VEVENT
END:VCALENDAR
