BEGIN:VCALENDAR
VERSION:2.0
PRODID:-//gutach.ortenaukultur.de//NONSGML kigkonsult.se iCalcreator 2.41.92//
CALSCALE:GREGORIAN
METHOD:PUBLISH
UID:61633730-3233-4636-a234-323036323630
X-WR-TIMEZONE:Europe/Berlin
X-LIC-LOCATION:Europe/Berlin
BEGIN:VEVENT
UID:587204-kulturportal@gutach.ortenaukultur.de
DTSTAMP:20260424T193946Z
DESCRIPTION:Kurzbeschreibung:\n Wie es sich für ein zünftiges Picknick gehö
 rt\, bringt jeder Besucher sein Essen selber mit.\n Ort:\n Kurpark\n Siedl
 ung 3 a\, 77793 Gutach (Schwarzwaldbahn)\n Veranstalter:\n Gemeindeverwalt
 ung Gutach\n Termin:\n Beginn: 30.08.2026\, 11:00 Uhr\n Ende: 30.08.2026\n
  Link:\n Page détaillée
DTSTART;TZID=Europe/Berlin:20260830T110000
DTEND;TZID=Europe/Berlin:20260830T140000
LOCATION:Kurpark\, Siedlung 3 a\, 77793 Gutach (Schwarzwaldbahn)
SUMMARY:Musik-Picknick\, Kurpark
X-ALT-DESC;FMTTYPE=text/html:<strong>Kurzbeschreibung:</strong><br/>Wie es 
 sich für ein zünftiges Picknick gehört\, bringt jeder Besucher sein Essen 
 selber mit. <br /><strong>Ort:</strong><br/>Kurpark<br/>Siedlung 3 a\, 777
 93 Gutach (Schwarzwaldbahn)<br /><strong>Veranstalter:</strong><br/>Gemein
 deverwaltung Gutach<br /><strong>Termin:</strong><br/>Beginn: 30.08.2026\,
  11:00 Uhr<br/>Ende: 30.08.2026<br /><strong>Link:</strong><br/><a href='h
 ttps://gutach.ortenaukultur.de/fr/evenements/detail/evenement/id/587204-mu
 sik-picknick/?vt=1'>Page détaillée </a>
END:VEVENT
END:VCALENDAR
