BEGIN:VCALENDAR
VERSION:2.0
PRODID:-//gutach.ortenaukultur.de//NONSGML kigkonsult.se iCalcreator 2.41.92//
CALSCALE:GREGORIAN
METHOD:PUBLISH
UID:36636361-3036-4332-b662-396665323635
X-WR-TIMEZONE:Europe/Berlin
X-LIC-LOCATION:Europe/Berlin
BEGIN:VEVENT
UID:587209-kulturportal@gutach.ortenaukultur.de
DTSTAMP:20260425T134935Z
DESCRIPTION:Kurzbeschreibung:\n Kunstmuseum Hasemann-Liebich.\n Ort:\n Kuns
 tmuseum Hasemann-Liebich\n Kirchstraße 4\, 77793 Gutach (Schwarzwaldbahn)
 \n Veranstalter:\n Kunstverein Hasemann-Liebich Gutach\n Termin:\n Beginn:
  20.09.2026\, 14:00 Uhr\n Ende: 20.09.2026\n Link:\n Page détaillée
DTSTART;TZID=Europe/Berlin:20260920T140000
DTEND;TZID=Europe/Berlin:20260920T170000
LOCATION:Kunstmuseum Hasemann-Liebich\, Kirchstraße 4\, 77793 Gutach (Schwa
 rzwaldbahn)
SUMMARY:Ausstellung der heutigen Malerkolonie\, Kunstmuseum Hasemann-Liebic
 h
X-ALT-DESC;FMTTYPE=text/html:<strong>Kurzbeschreibung:</strong><br/>Kunstmu
 seum Hasemann-Liebich.<br /><strong>Ort:</strong><br/>Kunstmuseum Hasemann
 -Liebich<br/>Kirchstraße 4\, 77793 Gutach (Schwarzwaldbahn)<br /><strong>V
 eranstalter:</strong><br/>Kunstverein Hasemann-Liebich Gutach<br /><strong
 >Termin:</strong><br/>Beginn: 20.09.2026\, 14:00 Uhr<br/>Ende: 20.09.2026<
 br /><strong>Link:</strong><br/><a href='https://gutach.ortenaukultur.de/f
 r/evenements/detail/evenement/id/587209-ausstellung-der-heutigen-malerkolo
 nie/?vt=1'>Page détaillée </a>
END:VEVENT
END:VCALENDAR
