BEGIN:VCALENDAR
VERSION:2.0
PRODID:-//gutach.ortenaukultur.de//NONSGML kigkonsult.se iCalcreator 2.41.92//
CALSCALE:GREGORIAN
METHOD:PUBLISH
UID:62393135-6633-4034-a539-323735623632
X-WR-TIMEZONE:Europe/Berlin
X-LIC-LOCATION:Europe/Berlin
BEGIN:VEVENT
UID:587223-kulturportal@gutach.ortenaukultur.de
DTSTAMP:20260425T003718Z
DESCRIPTION:Kurzbeschreibung:\n Erntedankfestzug mit Trachtenkapelle\, Träg
 ern der Bollenhuttracht und Vereinen vom Gemeindehaus zur Kirche.\n Ort:\n
  Evangelische Peterskirche\n Kirchstraße\, 77793 Gutach (Schwarzwaldbahn)
 \n Veranstalter:\n Evangelische Kirchengemeinde\n Termin:\n Beginn: 04.10.
 2026\, 09:45 Uhr\n Ende: 04.10.2026\n Link:\n Page détaillée
DTSTART;TZID=Europe/Berlin:20261004T094500
DTEND;TZID=Europe/Berlin:20261004T124500
LOCATION:Evangelische Peterskirche\, Kirchstraße\, 77793 Gutach (Schwarzwal
 dbahn)
SUMMARY:Erntedankfest\, Evangelische Peterskirche
X-ALT-DESC;FMTTYPE=text/html:<strong>Kurzbeschreibung:</strong><br/>Ernteda
 nkfestzug mit Trachtenkapelle\, Trägern der Bollenhuttracht und Vereinen v
 om Gemeindehaus zur Kirche.<br /><strong>Ort:</strong><br/>Evangelische Pe
 terskirche<br/>Kirchstraße\, 77793 Gutach (Schwarzwaldbahn)<br /><strong>V
 eranstalter:</strong><br/>Evangelische Kirchengemeinde<br /><strong>Termin
 :</strong><br/>Beginn: 04.10.2026\, 09:45 Uhr<br/>Ende: 04.10.2026<br /><s
 trong>Link:</strong><br/><a href='https://gutach.ortenaukultur.de/fr/evene
 ments/detail/evenement/id/587223-erntedankfest/?vt=1'>Page détaillée </a>
END:VEVENT
END:VCALENDAR
