BEGIN:VCALENDAR
VERSION:2.0
PRODID:-//gutach.ortenaukultur.de//NONSGML kigkonsult.se iCalcreator 2.41.92//
CALSCALE:GREGORIAN
METHOD:PUBLISH
UID:31316139-3633-4366-a461-326133633161
X-WR-TIMEZONE:Europe/Berlin
X-LIC-LOCATION:Europe/Berlin
BEGIN:VEVENT
UID:587227-kulturportal@gutach.ortenaukultur.de
DTSTAMP:20260425T005748Z
DESCRIPTION:Kurzbeschreibung:\n Besprechung der Termine für das kommende Ja
 hr.\n Ort:\n wird noch bekanntgegeben\, Gutach\n Veranstalter:\n Tourist-I
 nformation Gutach\n Termin:\n Beginn: 21.10.2026\, 19:00 Uhr\n Ende: 21.10
 .2026\n Link:\n Page détaillée
DTSTART;TZID=Europe/Berlin:20261021T190000
DTEND;TZID=Europe/Berlin:20261021T220000
LOCATION:wird noch bekanntgegeben\, Gutach
SUMMARY:Vereinvertreterversammlung\, wird noch bekanntgegeben
X-ALT-DESC;FMTTYPE=text/html:<strong>Kurzbeschreibung:</strong><br/>Besprec
 hung der Termine für das kommende Jahr.<br /><strong>Ort:</strong><br/>wir
 d noch bekanntgegeben\, Gutach<br /><strong>Veranstalter:</strong><br/>Tou
 rist-Information Gutach<br /><strong>Termin:</strong><br/>Beginn: 21.10.20
 26\, 19:00 Uhr<br/>Ende: 21.10.2026<br /><strong>Link:</strong><br/><a hre
 f='https://gutach.ortenaukultur.de/fr/evenements/detail/evenement/id/58722
 7-vereinvertreterversammlung/?vt=1'>Page détaillée </a>
END:VEVENT
END:VCALENDAR
