BEGIN:VCALENDAR
VERSION:2.0
PRODID:-//gutach.ortenaukultur.de//NONSGML kigkonsult.se iCalcreator 2.41.92//
CALSCALE:GREGORIAN
METHOD:PUBLISH
UID:30616532-3863-4734-b930-326539643136
X-WR-TIMEZONE:Europe/Berlin
X-LIC-LOCATION:Europe/Berlin
BEGIN:VEVENT
UID:587230-kulturportal@gutach.ortenaukultur.de
DTSTAMP:20260425T102248Z
DESCRIPTION:Kurzbeschreibung:\n evangelische Kirchengemeinde.\n Ort:\n Fest
 halle\n Hauptstr. 40\, 77793 Gutach (Schwarzwaldbahn)\n Veranstalter:\n Ev
 angelische Kirchengemeinde\n Termin:\n Beginn: 25.10.2026\n Ende: 25.10.20
 26\n Link:\n Page détaillée
DTSTART;TZID=Europe/Berlin:20261025T000000
DTEND;TZID=Europe/Berlin:20261025T020000
LOCATION:Festhalle\, Hauptstr. 40\, 77793 Gutach (Schwarzwaldbahn)
SUMMARY:Legostadt\, Festhalle
X-ALT-DESC;FMTTYPE=text/html:<strong>Kurzbeschreibung:</strong><br/>evangel
 ische Kirchengemeinde.<br /><strong>Ort:</strong><br/>Festhalle<br/>Haupts
 tr. 40\, 77793 Gutach (Schwarzwaldbahn)<br /><strong>Veranstalter:</strong
 ><br/>Evangelische Kirchengemeinde<br /><strong>Termin:</strong><br/>Begin
 n: 25.10.2026<br/>Ende: 25.10.2026<br /><strong>Link:</strong><br/><a href
 ='https://gutach.ortenaukultur.de/fr/evenements/detail/evenement/id/587230
 -legostadt/?vt=1'>Page détaillée </a>
END:VEVENT
END:VCALENDAR
