BEGIN:VCALENDAR
VERSION:2.0
PRODID:-//gutach.ortenaukultur.de//NONSGML kigkonsult.se iCalcreator 2.41.92//
CALSCALE:GREGORIAN
METHOD:PUBLISH
UID:39373334-6633-4533-a137-346265396236
X-WR-TIMEZONE:Europe/Berlin
X-LIC-LOCATION:Europe/Berlin
BEGIN:VEVENT
UID:587253-kulturportal@gutach.ortenaukultur.de
DTSTAMP:20260425T114536Z
DESCRIPTION:Kurzbeschreibung:\n E-Bike-Tour von Neustadt bis Gutach auf dem
  Schwarzwaldradweg mit ca. 60 km.\n Ort:\n Bahnhof Hausach\, Gutach\n Vera
 nstalter:\n Schwarzwaldverein - Ortsgruppe Gutach e.V.\n Termin:\n Beginn:
  02.08.2026\, 07:00 Uhr\n Ende: 02.08.2026\n Link:\n Page détaillée
DTSTART;TZID=Europe/Berlin:20260802T070000
DTEND;TZID=Europe/Berlin:20260802T100000
LOCATION:Bahnhof Hausach\, Gutach
SUMMARY:Auf Tour mit Max-Leo\, Bahnhof Hausach
X-ALT-DESC;FMTTYPE=text/html:<strong>Kurzbeschreibung:</strong><br/>E-Bike-
 Tour von Neustadt bis Gutach auf dem Schwarzwaldradweg mit ca. 60 km.<br /
 ><strong>Ort:</strong><br/>Bahnhof Hausach\, Gutach<br /><strong>Veranstal
 ter:</strong><br/>Schwarzwaldverein - Ortsgruppe Gutach e.V.<br /><strong>
 Termin:</strong><br/>Beginn: 02.08.2026\, 07:00 Uhr<br/>Ende: 02.08.2026<b
 r /><strong>Link:</strong><br/><a href='https://gutach.ortenaukultur.de/fr
 /evenements/detail/evenement/id/587253-auf-tour-mit-max-leo/?vt=1'>Page dé
 taillée </a>
END:VEVENT
END:VCALENDAR
