BEGIN:VCALENDAR
VERSION:2.0
PRODID:-//gutach.ortenaukultur.de//NONSGML kigkonsult.se iCalcreator 2.41.92//
CALSCALE:GREGORIAN
METHOD:PUBLISH
UID:39316162-3762-4166-b630-316462383965
X-WR-TIMEZONE:Europe/Berlin
X-LIC-LOCATION:Europe/Berlin
BEGIN:VEVENT
UID:587258-kulturportal@gutach.ortenaukultur.de
DTSTAMP:20260425T114531Z
DESCRIPTION:Kurzbeschreibung:\n Rundwanderung von Endingen durch das Erlent
 al zur Katharinenkapelle und über die Amolterer Heide zurück.\n Ort:\n Par
 kplatz Dorfmitte\n Hauptstraße 48\, 77793 Gutach (Schwarzwaldbahn)\n Veran
 stalter:\n Schwarzwaldverein - Ortsgruppe Gutach e.V.\n Termin:\n Beginn: 
 27.09.2026\, 10:00 Uhr\n Ende: 27.09.2026\n Link:\n Page détaillée
DTSTART;TZID=Europe/Berlin:20260927T100000
DTEND;TZID=Europe/Berlin:20260927T130000
LOCATION:Parkplatz Dorfmitte\, Hauptstraße 48\, 77793 Gutach (Schwarzwaldba
 hn)
SUMMARY:Endingen am Kaiserstuhl\, Parkplatz Dorfmitte
X-ALT-DESC;FMTTYPE=text/html:<strong>Kurzbeschreibung:</strong><br/>Rundwan
 derung von Endingen durch das Erlental zur Katharinenkapelle und über die 
 Amolterer Heide zurück.<br /><strong>Ort:</strong><br/>Parkplatz Dorfmitte
 <br/>Hauptstraße 48\, 77793 Gutach (Schwarzwaldbahn)<br /><strong>Veransta
 lter:</strong><br/>Schwarzwaldverein - Ortsgruppe Gutach e.V.<br /><strong
 >Termin:</strong><br/>Beginn: 27.09.2026\, 10:00 Uhr<br/>Ende: 27.09.2026<
 br /><strong>Link:</strong><br/><a href='https://gutach.ortenaukultur.de/f
 r/evenements/detail/evenement/id/587258-endingen-am-kaiserstuhl/?vt=1'>Pag
 e détaillée </a>
END:VEVENT
END:VCALENDAR
