BEGIN:VCALENDAR
VERSION:2.0
PRODID:-//gutach.ortenaukultur.de//NONSGML kigkonsult.se iCalcreator 2.41.92//
CALSCALE:GREGORIAN
METHOD:PUBLISH
UID:38383131-6564-4334-a631-356339623937
X-WR-TIMEZONE:Europe/Berlin
X-LIC-LOCATION:Europe/Berlin
BEGIN:VEVENT
UID:587260-kulturportal@gutach.ortenaukultur.de
DTSTAMP:20260425T133446Z
DESCRIPTION:Kurzbeschreibung:\n Im Kinzigtal mit etwa 2\,5 Stunden Gehzeit 
 und mehreren Yoga-Einheiten (ca. 1\,5 Stunden). Schlusseinkehr geplant. An
 meldung erforderlich\, Teilnehmerzahl begrenzt\n Ort:\n Parkplatz Dorfmitt
 e\n Hauptstraße 48\, 77793 Gutach (Schwarzwaldbahn)\n Veranstalter:\n Schw
 arzwaldverein - Ortsgruppe Gutach e.V.\n Termin:\n Beginn: 23.08.2026\, 10
 :00 Uhr\n Ende: 23.08.2026\n Link:\n Page détaillée
DTSTART;TZID=Europe/Berlin:20260823T100000
DTEND;TZID=Europe/Berlin:20260823T130000
LOCATION:Parkplatz Dorfmitte\, Hauptstraße 48\, 77793 Gutach (Schwarzwaldba
 hn)
SUMMARY:Entspannte Yoga-Wanderung mit Tanja Menrath\, Parkplatz Dorfmitte
X-ALT-DESC;FMTTYPE=text/html:<strong>Kurzbeschreibung:</strong><br/>Im Kinz
 igtal mit etwa 2\,5 Stunden Gehzeit und mehreren Yoga-Einheiten (ca. 1\,5 
 Stunden). Schlusseinkehr geplant. Anmeldung erforderlich\, Teilnehmerzahl 
 begrenzt<br /><strong>Ort:</strong><br/>Parkplatz Dorfmitte<br/>Hauptstraß
 e 48\, 77793 Gutach (Schwarzwaldbahn)<br /><strong>Veranstalter:</strong><
 br/>Schwarzwaldverein - Ortsgruppe Gutach e.V.<br /><strong>Termin:</stron
 g><br/>Beginn: 23.08.2026\, 10:00 Uhr<br/>Ende: 23.08.2026<br /><strong>Li
 nk:</strong><br/><a href='https://gutach.ortenaukultur.de/fr/evenements/de
 tail/evenement/id/587260-entspannte-yoga-wanderung-mit-tanja-menrath/?vt=1
 '>Page détaillée </a>
END:VEVENT
END:VCALENDAR
