BEGIN:VCALENDAR
VERSION:2.0
PRODID:-//gutach.ortenaukultur.de//NONSGML kigkonsult.se iCalcreator 2.41.92//
CALSCALE:GREGORIAN
METHOD:PUBLISH
UID:38366634-6532-4537-a130-366437363638
X-WR-TIMEZONE:Europe/Berlin
X-LIC-LOCATION:Europe/Berlin
BEGIN:VEVENT
UID:587261-kulturportal@gutach.ortenaukultur.de
DTSTAMP:20260425T102706Z
DESCRIPTION:Kurzbeschreibung:\n Wanderung rund um das Klösterle in Bad Ripp
 oldsau über die Wolfsschlucht bis zum Schießhüttele und weiter zu den Burg
 bachwasserfällen.\n Ort:\n Parkplatz Dorfmitte\n Hauptstraße 48\, 77793 Gu
 tach (Schwarzwaldbahn)\n Veranstalter:\n Schwarzwaldverein - Ortsgruppe Gu
 tach e.V.\n Termin:\n Beginn: 11.10.2026\, 10:00 Uhr\n Ende: 11.10.2026\n 
 Link:\n Page détaillée
DTSTART;TZID=Europe/Berlin:20261011T100000
DTEND;TZID=Europe/Berlin:20261011T130000
LOCATION:Parkplatz Dorfmitte\, Hauptstraße 48\, 77793 Gutach (Schwarzwaldba
 hn)
SUMMARY:Genießerpfad Klösterle-Schleife\, Parkplatz Dorfmitte
X-ALT-DESC;FMTTYPE=text/html:<strong>Kurzbeschreibung:</strong><br/>Wanderu
 ng rund um das Klösterle in Bad Rippoldsau über die Wolfsschlucht bis zum 
 Schießhüttele und weiter zu den Burgbachwasserfällen.<br /><strong>Ort:</s
 trong><br/>Parkplatz Dorfmitte<br/>Hauptstraße 48\, 77793 Gutach (Schwarzw
 aldbahn)<br /><strong>Veranstalter:</strong><br/>Schwarzwaldverein - Ortsg
 ruppe Gutach e.V.<br /><strong>Termin:</strong><br/>Beginn: 11.10.2026\, 1
 0:00 Uhr<br/>Ende: 11.10.2026<br /><strong>Link:</strong><br/><a href='htt
 ps://gutach.ortenaukultur.de/fr/evenements/detail/evenement/id/587261-geni
 esserpfad-kloesterle-schleife/?vt=1'>Page détaillée </a>
END:VEVENT
END:VCALENDAR
