BEGIN:VCALENDAR
VERSION:2.0
PRODID:-//gutach.ortenaukultur.de//NONSGML kigkonsult.se iCalcreator 2.41.92//
CALSCALE:GREGORIAN
METHOD:PUBLISH
UID:31333861-3064-4732-b063-366264636334
X-WR-TIMEZONE:Europe/Berlin
X-LIC-LOCATION:Europe/Berlin
BEGIN:VEVENT
UID:592288-kulturportal@gutach.ortenaukultur.de
DTSTAMP:20260424T225417Z
DESCRIPTION:Kurzbeschreibung:\n Auf die Räder\, fertig\, los!\n Ort:\n Rath
 aus Gutach\n Hauptstraße 38\, 77793 Gutach (Schwarzwaldbahn)\n Veranstalte
 r:\n Tourist-Information Gutach\n Termin:\n Beginn: 16.05.2026\n Ende: 16.
 05.2026\n Link:\n Page détaillée
DTSTART;VALUE=DATE:20260516
DTEND;VALUE=DATE:20260517
LOCATION:Rathaus Gutach\, Hauptstraße 38\, 77793 Gutach (Schwarzwaldbahn)
SUMMARY:Stadtradeln\, Rathaus Gutach
X-ALT-DESC;FMTTYPE=text/html:<strong>Kurzbeschreibung:</strong><br/>Auf die
  Räder\, fertig\, los!<br /><strong>Ort:</strong><br/>Rathaus Gutach<br/>H
 auptstraße 38\, 77793 Gutach (Schwarzwaldbahn)<br /><strong>Veranstalter:<
 /strong><br/>Tourist-Information Gutach<br /><strong>Termin:</strong><br/>
 Beginn: 16.05.2026<br/>Ende: 16.05.2026<br /><strong>Link:</strong><br/><a
  href='https://gutach.ortenaukultur.de/fr/evenements/detail/evenement/id/5
 92288-stadtradeln/?vt=1'>Page détaillée </a>
END:VEVENT
END:VCALENDAR
